BEGIN:VCALENDAR
VERSION:2.0
PRODID:-//Rotaract 5100 - ECPv6.15.20//NONSGML v1.0//EN
CALSCALE:GREGORIAN
METHOD:PUBLISH
X-ORIGINAL-URL:https://rotaract5100.org
X-WR-CALDESC:Events for Rotaract 5100
REFRESH-INTERVAL;VALUE=DURATION:PT1H
X-Robots-Tag:noindex
X-PUBLISHED-TTL:PT1H
BEGIN:VTIMEZONE
TZID:UTC
BEGIN:STANDARD
TZOFFSETFROM:+0000
TZOFFSETTO:+0000
TZNAME:UTC
DTSTART:20240101T000000
END:STANDARD
END:VTIMEZONE
BEGIN:VEVENT
DTSTART;TZID=UTC:20250415T180000
DTEND;TZID=UTC:20250415T190000
DTSTAMP:20260423T161102
CREATED:20250315T015248Z
LAST-MODIFIED:20250315T015248Z
UID:406-1744740000-1744743600@rotaract5100.org
SUMMARY:Meeting
DESCRIPTION:Either a planning meeting for upcoming events or a speaker.
URL:https://rotaract5100.org/event/meeting/
END:VEVENT
BEGIN:VEVENT
DTSTART;VALUE=DATE:20250412
DTEND;VALUE=DATE:20250413
DTSTAMP:20260423T161102
CREATED:20250315T015202Z
LAST-MODIFIED:20250315T015202Z
UID:403-1744416000-1744502399@rotaract5100.org
SUMMARY:Spring Training
DESCRIPTION:Spring Training:\n\nIt is a wonderful way to learn more about Rotary in general (Polio\, peace\, history of Rotary)\, advance in specific roles (see below)\, and gain additional skills (public speaking\, communication). I’m attaching the flyer and schedule for the training.\nRegistration is through DacDB (https://www.dacdb.com) or Click the link Register NOW for Spring Training (Virtual). Most of you are registered and supposed to be able to access the website. If you’re unable to\, please email me with the sessions that you’re interested in and I can register you as well.\n\n\n\nIf you’re interested in a specific leadership role\, pay attention that there are specific sessions for them. Treasurers 8:30-9:30 (the grant sessions could be great options for people who are interested in supporting the budget and finance)\, Secretaries at 9:45-10:45\, Public image and membership- multiple options.\n\n\nYou don’t have to register for everything\, you can do some sessions.\n\n\nAfter checking again\, we’re not required to attend the grants sessions but you’re free to join if you’re interested in them.
URL:https://rotaract5100.org/event/spring-training/
END:VEVENT
BEGIN:VEVENT
DTSTART;TZID=UTC:20250406T100000
DTEND;TZID=UTC:20250406T140000
DTSTAMP:20260423T161102
CREATED:20250315T014905Z
LAST-MODIFIED:20250315T014905Z
UID:401-1743933600-1743948000@rotaract5100.org
SUMMARY:Tentative
DESCRIPTION:Volunteer project- working on details
URL:https://rotaract5100.org/event/tentative/
END:VEVENT
BEGIN:VEVENT
DTSTART;TZID=UTC:20250315T130000
DTEND;TZID=UTC:20250315T180000
DTSTAMP:20260423T161102
CREATED:20250315T014806Z
LAST-MODIFIED:20250315T014806Z
UID:399-1742043600-1742061600@rotaract5100.org
SUMMARY:Visioning Workshop
DESCRIPTION:Please make sure you fill out the Google form and fill the workbook (it’s 6 pages\, for some reason they duplicate it a few times in the workbook).
URL:https://rotaract5100.org/event/visioning-workshop/
END:VEVENT
END:VCALENDAR